BEGIN:VCALENDAR
VERSION:2.0
PRODID:-//Tempus Renatus School of Classical Horsemanship - ECPv6.15.20//NONSGML v1.0//EN
CALSCALE:GREGORIAN
METHOD:PUBLISH
X-WR-CALNAME:Tempus Renatus School of Classical Horsemanship
X-ORIGINAL-URL:https://tempusrenatus.org
X-WR-CALDESC:Events for Tempus Renatus School of Classical Horsemanship
REFRESH-INTERVAL;VALUE=DURATION:PT1H
X-Robots-Tag:noindex
X-PUBLISHED-TTL:PT1H
BEGIN:VTIMEZONE
TZID:UTC
BEGIN:STANDARD
TZOFFSETFROM:+0000
TZOFFSETTO:+0000
TZNAME:UTC
DTSTART:20220101T000000
END:STANDARD
END:VTIMEZONE
BEGIN:VTIMEZONE
TZID:America/New_York
BEGIN:DAYLIGHT
TZOFFSETFROM:-0500
TZOFFSETTO:-0400
TZNAME:EDT
DTSTART:20220313T070000
END:DAYLIGHT
BEGIN:STANDARD
TZOFFSETFROM:-0400
TZOFFSETTO:-0500
TZNAME:EST
DTSTART:20221106T060000
END:STANDARD
BEGIN:DAYLIGHT
TZOFFSETFROM:-0500
TZOFFSETTO:-0400
TZNAME:EDT
DTSTART:20230312T070000
END:DAYLIGHT
BEGIN:STANDARD
TZOFFSETFROM:-0400
TZOFFSETTO:-0500
TZNAME:EST
DTSTART:20231105T060000
END:STANDARD
BEGIN:DAYLIGHT
TZOFFSETFROM:-0500
TZOFFSETTO:-0400
TZNAME:EDT
DTSTART:20240310T070000
END:DAYLIGHT
BEGIN:STANDARD
TZOFFSETFROM:-0400
TZOFFSETTO:-0500
TZNAME:EST
DTSTART:20241103T060000
END:STANDARD
END:VTIMEZONE
BEGIN:VEVENT
DTSTART;TZID=UTC:20240629T103000
DTEND;TZID=UTC:20240629T113000
DTSTAMP:20260422T044721
CREATED:20240618T030017Z
LAST-MODIFIED:20240618T030017Z
UID:10000056-1719657000-1719660600@tempusrenatus.org
SUMMARY:Farm Tour
DESCRIPTION:Join us for our weekly farm tour! Meet and learn more about the rare breeds that call our place home as well as developing and working a farm off-grid with a tour provided by a member of our team! Please sign up on AirBnB for tickets and to see available times!
URL:https://tempusrenatus.org/event/farm-tour-27/
LOCATION:Tempus Renatus\, 10180 Llewellyn rd\, Remsen\, NY\, 13438\, United States
CATEGORIES:Family Events
ATTACH;FMTTYPE=image/jpeg:https://tempusrenatus.org/wp-content/uploads/2021/07/LAU2419_websize.jpg
END:VEVENT
BEGIN:VEVENT
DTSTART;TZID=UTC:20240628T160000
DTEND;TZID=UTC:20240628T170000
DTSTAMP:20260422T044721
CREATED:20240618T025913Z
LAST-MODIFIED:20240618T025913Z
UID:10000055-1719590400-1719594000@tempusrenatus.org
SUMMARY:Farm Tour
DESCRIPTION:Join us for our weekly farm tour! Meet and learn more about the rare breeds that call our place home as well as developing and working a farm off-grid with a tour provided by a member of our team! Please sign up on AirBnB for tickets and to see available times!
URL:https://tempusrenatus.org/event/farm-tour-26/
LOCATION:Tempus Renatus\, 10180 Llewellyn rd\, Remsen\, NY\, 13438\, United States
CATEGORIES:Family Events
ATTACH;FMTTYPE=image/jpeg:https://tempusrenatus.org/wp-content/uploads/2022/12/LAU2419_websize.jpg
END:VEVENT
BEGIN:VEVENT
DTSTART;TZID=UTC:20240628T103000
DTEND;TZID=UTC:20240628T113000
DTSTAMP:20260422T044721
CREATED:20240618T025820Z
LAST-MODIFIED:20240618T025820Z
UID:10000054-1719570600-1719574200@tempusrenatus.org
SUMMARY:Farm Tour
DESCRIPTION:Join us for our weekly farm tour! Meet and learn more about the rare breeds that call our place home as well as developing and working a farm off-grid with a tour provided by a member of our team! Please sign up on AirBnB for tickets and to see available times!
URL:https://tempusrenatus.org/event/farm-tour-25/
LOCATION:Tempus Renatus\, 10180 Llewellyn rd\, Remsen\, NY\, 13438\, United States
CATEGORIES:Family Events
ATTACH;FMTTYPE=image/jpeg:https://tempusrenatus.org/wp-content/uploads/2022/12/LAU2419_websize.jpg
END:VEVENT
BEGIN:VEVENT
DTSTART;TZID=UTC:20240623T140000
DTEND;TZID=UTC:20240623T150000
DTSTAMP:20260422T044721
CREATED:20240618T025718Z
LAST-MODIFIED:20240618T025718Z
UID:10000053-1719151200-1719154800@tempusrenatus.org
SUMMARY:Farm Tour
DESCRIPTION:Join us for our weekly farm tour! Meet and learn more about the rare breeds that call our place home as well as developing and working a farm off-grid with a tour provided by a member of our team! Please sign up on AirBnB for tickets and to see available times!
URL:https://tempusrenatus.org/event/farm-tour-24/
LOCATION:Tempus Renatus\, 10180 Llewellyn rd\, Remsen\, NY\, 13438\, United States
CATEGORIES:Family Events
ATTACH;FMTTYPE=image/jpeg:https://tempusrenatus.org/wp-content/uploads/2021/07/LAU2419_websize.jpg
END:VEVENT
BEGIN:VEVENT
DTSTART;TZID=UTC:20240622T150000
DTEND;TZID=UTC:20240622T160000
DTSTAMP:20260422T044721
CREATED:20240618T025448Z
LAST-MODIFIED:20240618T025448Z
UID:10000051-1719068400-1719072000@tempusrenatus.org
SUMMARY:Farm Tour
DESCRIPTION:Join us for our weekly farm tour! Meet and learn more about the rare breeds that call our place home as well as developing and working a farm off-grid with a tour provided by a member of our team! Please sign up on AirBnB for tickets and to see available times!
URL:https://tempusrenatus.org/event/farm-tour-22/
LOCATION:Tempus Renatus\, 10180 Llewellyn rd\, Remsen\, NY\, 13438\, United States
CATEGORIES:Family Events
ATTACH;FMTTYPE=image/jpeg:https://tempusrenatus.org/wp-content/uploads/2021/07/LAU2419_websize.jpg
END:VEVENT
BEGIN:VEVENT
DTSTART;TZID=UTC:20240622T103000
DTEND;TZID=UTC:20240622T113000
DTSTAMP:20260422T044721
CREATED:20240618T025550Z
LAST-MODIFIED:20240618T025550Z
UID:10000052-1719052200-1719055800@tempusrenatus.org
SUMMARY:Farm Tour
DESCRIPTION:Join us for our weekly farm tour! Meet and learn more about the rare breeds that call our place home as well as developing and working a farm off-grid with a tour provided by a member of our team! Please sign up on AirBnB for tickets and to see available times!
URL:https://tempusrenatus.org/event/farm-tour-23/
LOCATION:Tempus Renatus\, 10180 Llewellyn rd\, Remsen\, NY\, 13438\, United States
CATEGORIES:Family Events
ATTACH;FMTTYPE=image/jpeg:https://tempusrenatus.org/wp-content/uploads/2021/07/LAU2419_websize.jpg
END:VEVENT
BEGIN:VEVENT
DTSTART;TZID=UTC:20240621T160000
DTEND;TZID=UTC:20240621T170000
DTSTAMP:20260422T044721
CREATED:20240618T025332Z
LAST-MODIFIED:20240618T025332Z
UID:10000050-1718985600-1718989200@tempusrenatus.org
SUMMARY:Farm Tour
DESCRIPTION:Join us for our weekly farm tour! Meet and learn more about the rare breeds that call our place home as well as developing and working a farm off-grid with a tour provided by a member of our team! Please sign up on AirBnB for tickets and to see available times!
URL:https://tempusrenatus.org/event/farm-tour-21/
LOCATION:Tempus Renatus\, 10180 Llewellyn rd\, Remsen\, NY\, 13438\, United States
CATEGORIES:Family Events
ATTACH;FMTTYPE=image/jpeg:https://tempusrenatus.org/wp-content/uploads/2022/12/LAU2419_websize.jpg
END:VEVENT
BEGIN:VEVENT
DTSTART;TZID=UTC:20240621T103000
DTEND;TZID=UTC:20240621T113000
DTSTAMP:20260422T044721
CREATED:20240618T025218Z
LAST-MODIFIED:20240618T025218Z
UID:10000049-1718965800-1718969400@tempusrenatus.org
SUMMARY:Farm Tour
DESCRIPTION:Join us for our weekly farm tour! Meet and learn more about the rare breeds that call our place home as well as developing and working a farm off-grid with a tour provided by a member of our team! Please sign up on AirBnB for tickets and to see available times!
URL:https://tempusrenatus.org/event/farm-tour-20/
LOCATION:Tempus Renatus\, 10180 Llewellyn rd\, Remsen\, NY\, 13438\, United States
CATEGORIES:Family Events
ATTACH;FMTTYPE=image/jpeg:https://tempusrenatus.org/wp-content/uploads/2022/12/LAU2419_websize.jpg
END:VEVENT
BEGIN:VEVENT
DTSTART;TZID=UTC:20240531T103000
DTEND;TZID=UTC:20240531T113000
DTSTAMP:20260422T044721
CREATED:20240419T183153Z
LAST-MODIFIED:20240419T183153Z
UID:10000041-1717151400-1717155000@tempusrenatus.org
SUMMARY:Farm Tour
DESCRIPTION:Join us for our weekly farm tour! Meet and learn more about the rare breeds that call our place home as well as developing and working a farm off-grid with a tour provided by a member of our team! Please sign up on AirBnB for tickets and to see available times!
URL:https://tempusrenatus.org/event/farm-tour-14/
LOCATION:Tempus Renatus\, 10180 Llewellyn rd\, Remsen\, NY\, 13438\, United States
CATEGORIES:Family Events
ATTACH;FMTTYPE=image/jpeg:https://tempusrenatus.org/wp-content/uploads/2022/12/LAU2419_websize.jpg
END:VEVENT
BEGIN:VEVENT
DTSTART;TZID=UTC:20240526T140000
DTEND;TZID=UTC:20240526T150000
DTSTAMP:20260422T044721
CREATED:20240419T190026Z
LAST-MODIFIED:20240419T190026Z
UID:10000046-1716732000-1716735600@tempusrenatus.org
SUMMARY:Farm Tour
DESCRIPTION:Join us for our weekly farm tour! Meet and learn more about the rare breeds that call our place home as well as developing and working a farm off-grid with a tour provided by a member of our team! Please sign up on AirBnB for tickets and to see available times!
URL:https://tempusrenatus.org/event/farm-tour-19/
LOCATION:Tempus Renatus\, 10180 Llewellyn rd\, Remsen\, NY\, 13438\, United States
CATEGORIES:Family Events
ATTACH;FMTTYPE=image/jpeg:https://tempusrenatus.org/wp-content/uploads/2021/07/LAU2419_websize.jpg
END:VEVENT
BEGIN:VEVENT
DTSTART;TZID=UTC:20240525T150000
DTEND;TZID=UTC:20240525T160000
DTSTAMP:20260422T044721
CREATED:20240419T184646Z
LAST-MODIFIED:20240419T184646Z
UID:10000043-1716649200-1716652800@tempusrenatus.org
SUMMARY:Farm Tour
DESCRIPTION:Join us for our weekly farm tour! Meet and learn more about the rare breeds that call our place home as well as developing and working a farm off-grid with a tour provided by a member of our team! Please sign up on AirBnB for tickets and to see available times!
URL:https://tempusrenatus.org/event/farm-tour-16/
LOCATION:Tempus Renatus\, 10180 Llewellyn rd\, Remsen\, NY\, 13438\, United States
CATEGORIES:Family Events
ATTACH;FMTTYPE=image/jpeg:https://tempusrenatus.org/wp-content/uploads/2021/07/LAU2419_websize.jpg
END:VEVENT
BEGIN:VEVENT
DTSTART;TZID=UTC:20240524T103000
DTEND;TZID=UTC:20240524T113000
DTSTAMP:20260422T044721
CREATED:20240419T183039Z
LAST-MODIFIED:20240419T183039Z
UID:10000040-1716546600-1716550200@tempusrenatus.org
SUMMARY:Farm Tour
DESCRIPTION:Join us for our weekly farm tour! Meet and learn more about the rare breeds that call our place home as well as developing and working a farm off-grid with a tour provided by a member of our team! Please sign up on AirBnB for tickets and to see available times!
URL:https://tempusrenatus.org/event/farm-tour-13/
LOCATION:Tempus Renatus\, 10180 Llewellyn rd\, Remsen\, NY\, 13438\, United States
CATEGORIES:Family Events
ATTACH;FMTTYPE=image/jpeg:https://tempusrenatus.org/wp-content/uploads/2022/12/LAU2419_websize.jpg
END:VEVENT
BEGIN:VEVENT
DTSTART;TZID=UTC:20240519T140000
DTEND;TZID=UTC:20240519T150000
DTSTAMP:20260422T044721
CREATED:20240419T185833Z
LAST-MODIFIED:20240419T190113Z
UID:10000045-1716127200-1716130800@tempusrenatus.org
SUMMARY:Farm Tour
DESCRIPTION:Join us for our weekly farm tour! Meet and learn more about the rare breeds that call our place home as well as developing and working a farm off-grid with a tour provided by a member of our team! Please sign up on AirBnB for tickets and to see available times!
URL:https://tempusrenatus.org/event/farm-tour-18/
LOCATION:Tempus Renatus\, 10180 Llewellyn rd\, Remsen\, NY\, 13438\, United States
CATEGORIES:Family Events
ATTACH;FMTTYPE=image/jpeg:https://tempusrenatus.org/wp-content/uploads/2021/07/LAU2419_websize.jpg
END:VEVENT
BEGIN:VEVENT
DTSTART;TZID=UTC:20240518T150000
DTEND;TZID=UTC:20240518T160000
DTSTAMP:20260422T044721
CREATED:20240419T183535Z
LAST-MODIFIED:20240419T183535Z
UID:10000042-1716044400-1716048000@tempusrenatus.org
SUMMARY:Farm Tour
DESCRIPTION:Join us for our weekly farm tour! Meet and learn more about the rare breeds that call our place home as well as developing and working a farm off-grid with a tour provided by a member of our team! Please sign up on AirBnB for tickets and to see available times!
URL:https://tempusrenatus.org/event/farm-tour-15/
LOCATION:Tempus Renatus\, 10180 Llewellyn rd\, Remsen\, NY\, 13438\, United States
CATEGORIES:Family Events
ATTACH;FMTTYPE=image/jpeg:https://tempusrenatus.org/wp-content/uploads/2021/07/LAU2419_websize.jpg
END:VEVENT
BEGIN:VEVENT
DTSTART;TZID=UTC:20240517T103000
DTEND;TZID=UTC:20240517T113000
DTSTAMP:20260422T044721
CREATED:20240419T182759Z
LAST-MODIFIED:20240419T182759Z
UID:10000039-1715941800-1715945400@tempusrenatus.org
SUMMARY:Farm Tour
DESCRIPTION:Join us for our weekly farm tour! Meet and learn more about the rare breeds that call our place home as well as developing and working a farm off-grid with a tour provided by a member of our team! Please sign up on AirBnB for tickets and to see available times!
URL:https://tempusrenatus.org/event/farm-tour-12/
LOCATION:Tempus Renatus\, 10180 Llewellyn rd\, Remsen\, NY\, 13438\, United States
CATEGORIES:Family Events
ATTACH;FMTTYPE=image/jpeg:https://tempusrenatus.org/wp-content/uploads/2022/12/LAU2419_websize.jpg
END:VEVENT
BEGIN:VEVENT
DTSTART;TZID=UTC:20240512T140000
DTEND;TZID=UTC:20240512T150000
DTSTAMP:20260422T044721
CREATED:20240419T185017Z
LAST-MODIFIED:20240419T190232Z
UID:10000044-1715522400-1715526000@tempusrenatus.org
SUMMARY:Farm Tour
DESCRIPTION:Join us for our weekly farm tour! Meet and learn more about the rare breeds that call our place home as well as developing and working a farm off-grid with a tour provided by a member of our team! Please sign up on AirBnB for tickets and to see available times!
URL:https://tempusrenatus.org/event/farm-tour-17/
LOCATION:Tempus Renatus\, 10180 Llewellyn rd\, Remsen\, NY\, 13438\, United States
CATEGORIES:Family Events
ATTACH;FMTTYPE=image/jpeg:https://tempusrenatus.org/wp-content/uploads/2021/07/LAU2419_websize.jpg
END:VEVENT
BEGIN:VEVENT
DTSTART;TZID=UTC:20240511T150000
DTEND;TZID=UTC:20240511T160000
DTSTAMP:20260422T044721
CREATED:20240419T182327Z
LAST-MODIFIED:20240419T182327Z
UID:10000036-1715439600-1715443200@tempusrenatus.org
SUMMARY:Farm Tour
DESCRIPTION:Join us for our weekly farm tour! Meet and learn more about the rare breeds that call our place home as well as developing and working a farm off-grid with a tour provided by a member of our team! Please sign up on AirBnB for tickets and to see available times!
URL:https://tempusrenatus.org/event/farm-tour-9/
LOCATION:Tempus Renatus\, 10180 Llewellyn rd\, Remsen\, NY\, 13438\, United States
CATEGORIES:Family Events
ATTACH;FMTTYPE=image/jpeg:https://tempusrenatus.org/wp-content/uploads/2021/07/LAU2419_websize.jpg
END:VEVENT
BEGIN:VEVENT
DTSTART;TZID=UTC:20240510T103000
DTEND;TZID=UTC:20240510T113000
DTSTAMP:20260422T044721
CREATED:20240419T182657Z
LAST-MODIFIED:20240419T182657Z
UID:10000038-1715337000-1715340600@tempusrenatus.org
SUMMARY:Farm Tour
DESCRIPTION:Join us for our weekly farm tour! Meet and learn more about the rare breeds that call our place home as well as developing and working a farm off-grid with a tour provided by a member of our team! Please sign up on AirBnB for tickets and to see available times!
URL:https://tempusrenatus.org/event/farm-tour-11/
LOCATION:Tempus Renatus\, 10180 Llewellyn rd\, Remsen\, NY\, 13438\, United States
CATEGORIES:Family Events
ATTACH;FMTTYPE=image/jpeg:https://tempusrenatus.org/wp-content/uploads/2022/12/LAU2419_websize.jpg
END:VEVENT
BEGIN:VEVENT
DTSTART;TZID=UTC:20240503T103000
DTEND;TZID=UTC:20240503T113000
DTSTAMP:20260422T044721
CREATED:20240419T182537Z
LAST-MODIFIED:20240419T182537Z
UID:10000037-1714732200-1714735800@tempusrenatus.org
SUMMARY:Farm Tour
DESCRIPTION:Join us for our weekly farm tour! Meet and learn more about the rare breeds that call our place home as well as developing and working a farm off-grid with a tour provided by a member of our team! Please sign up on AirBnB for tickets and to see available times!
URL:https://tempusrenatus.org/event/farm-tour-10/
LOCATION:Tempus Renatus\, 10180 Llewellyn rd\, Remsen\, NY\, 13438\, United States
CATEGORIES:Family Events
ATTACH;FMTTYPE=image/jpeg:https://tempusrenatus.org/wp-content/uploads/2022/12/LAU2419_websize.jpg
END:VEVENT
BEGIN:VEVENT
DTSTART;TZID=UTC:20240427T150000
DTEND;TZID=UTC:20240427T160000
DTSTAMP:20260422T044721
CREATED:20240409T040203Z
LAST-MODIFIED:20240409T040203Z
UID:10000035-1714230000-1714233600@tempusrenatus.org
SUMMARY:Farm Tour
DESCRIPTION:Join us for our weekly farm tour! Meet and learn more about the rare breeds that call our place home as well as developing and working a farm off-grid with a tour provided by a member of our team! Please sign up on AirBnB for tickets and to see available times!
URL:https://tempusrenatus.org/event/farm-tour-8/
LOCATION:Tempus Renatus\, 10180 Llewellyn rd\, Remsen\, NY\, 13438\, United States
CATEGORIES:Family Events
ATTACH;FMTTYPE=image/jpeg:https://tempusrenatus.org/wp-content/uploads/2021/07/LAU2419_websize.jpg
END:VEVENT
BEGIN:VEVENT
DTSTART;TZID=UTC:20240427T123000
DTEND;TZID=UTC:20240427T133000
DTSTAMP:20260422T044721
CREATED:20240409T034627Z
LAST-MODIFIED:20240409T040701Z
UID:10000031-1714221000-1714224600@tempusrenatus.org
SUMMARY:Tools for Training: The Seat
DESCRIPTION:Join us for our first Tools for Training seminar of 2024! This one focuses on the seat: what is good position\, why is it good\, and how to use it. Participants are welcome to bring snacks or drinks to share if desired (some will be provided). Admission is $15. Contact us if you have any questions!
URL:https://tempusrenatus.org/event/tools-for-training-the-seat/
LOCATION:Tempus Renatus\, 10180 Llewellyn rd\, Remsen\, NY\, 13438\, United States
CATEGORIES:Equestrian Events
ATTACH;FMTTYPE=image/jpeg:https://tempusrenatus.org/wp-content/uploads/2023/07/IMG_7763-scaled.jpg
END:VEVENT
BEGIN:VEVENT
DTSTART;TZID=UTC:20240426T103000
DTEND;TZID=UTC:20240426T113000
DTSTAMP:20260422T044721
CREATED:20240409T040108Z
LAST-MODIFIED:20240409T040108Z
UID:10000034-1714127400-1714131000@tempusrenatus.org
SUMMARY:Farm Tour
DESCRIPTION:Join us for our weekly farm tour! Meet and learn more about the rare breeds that call our place home as well as developing and working a farm off-grid with a tour provided by a member of our team! Please sign up on AirBnB for tickets and to see available times!
URL:https://tempusrenatus.org/event/farm-tour-7/
LOCATION:Tempus Renatus\, 10180 Llewellyn rd\, Remsen\, NY\, 13438\, United States
CATEGORIES:Family Events
ATTACH;FMTTYPE=image/jpeg:https://tempusrenatus.org/wp-content/uploads/2022/12/LAU2419_websize.jpg
END:VEVENT
BEGIN:VEVENT
DTSTART;TZID=UTC:20240419T103000
DTEND;TZID=UTC:20240419T113000
DTSTAMP:20260422T044721
CREATED:20240409T035941Z
LAST-MODIFIED:20240409T035941Z
UID:10000032-1713522600-1713526200@tempusrenatus.org
SUMMARY:Farm Tour
DESCRIPTION:Join us for our weekly farm tour! Meet and learn more about the rare breeds that call our place home as well as developing and working a farm off-grid with a tour provided by a member of our team! Please sign up on AirBnB for tickets and to see available times!
URL:https://tempusrenatus.org/event/farm-tour-6/
LOCATION:Tempus Renatus\, 10180 Llewellyn rd\, Remsen\, NY\, 13438\, United States
CATEGORIES:Family Events
ATTACH;FMTTYPE=image/jpeg:https://tempusrenatus.org/wp-content/uploads/2022/12/LAU2419_websize.jpg
END:VEVENT
BEGIN:VEVENT
DTSTART;TZID=UTC:20240413T150000
DTEND;TZID=UTC:20240413T160000
DTSTAMP:20260422T044721
CREATED:20240409T032810Z
LAST-MODIFIED:20240409T034825Z
UID:10000030-1713020400-1713024000@tempusrenatus.org
SUMMARY:Farm Tour
DESCRIPTION:Join us for our weekly farm tour! Meet and learn more about the rare breeds that call our place home as well as developing and working a farm off-grid with a tour provided by a member of our team! Please sign up on AirBnB for tickets and to see available times!
URL:https://tempusrenatus.org/event/farm-tour-5/
LOCATION:Tempus Renatus\, 10180 Llewellyn rd\, Remsen\, NY\, 13438\, United States
CATEGORIES:Family Events
ATTACH;FMTTYPE=image/jpeg:https://tempusrenatus.org/wp-content/uploads/2021/07/LAU2419_websize.jpg
END:VEVENT
BEGIN:VEVENT
DTSTART;TZID=UTC:20240412T103000
DTEND;TZID=UTC:20240412T113000
DTSTAMP:20260422T044721
CREATED:20240409T032457Z
LAST-MODIFIED:20240409T034924Z
UID:10000029-1712917800-1712921400@tempusrenatus.org
SUMMARY:Farm Tour
DESCRIPTION:Join us for our weekly farm tour! Meet and learn more about the rare breeds that call our place home as well as developing and working a farm off-grid with a tour provided by a member of our team! Please sign up on AirBnB for tickets and to see available times!
URL:https://tempusrenatus.org/event/farm-tour-4/
LOCATION:Tempus Renatus\, 10180 Llewellyn rd\, Remsen\, NY\, 13438\, United States
CATEGORIES:Family Events
ATTACH;FMTTYPE=image/jpeg:https://tempusrenatus.org/wp-content/uploads/2022/12/LAU2419_websize.jpg
END:VEVENT
BEGIN:VEVENT
DTSTART;VALUE=DATE:20240322
DTEND;VALUE=DATE:20240325
DTSTAMP:20260422T044721
CREATED:20240221T184749Z
LAST-MODIFIED:20240221T184749Z
UID:10000015-1711065600-1711324799@tempusrenatus.org
SUMMARY:Classical Dressage/Mounted Fencing Clinic with Arne Koets
DESCRIPTION:Join us for a classical dressage/mounted fencing clinic with Arne Koets! Arne is an exceptional dressage and mounted fencing instructor with a brilliant eye for biomechanics and a wonderful teaching style. Lesson slots still available at $175/40 minutes\, semi-privates available for sparring lessons. Each day will have a theory session in the morning. Auditing is $30. Learn more about Arne at http://arnekoets.nl Please email at tempusrenatus@gmail.com for registration information!
URL:https://tempusrenatus.org/event/classical-dressage-mounted-fencing-clinic-with-arne-koets/
LOCATION:Tempus Renatus\, 10180 Llewellyn rd\, Remsen\, NY\, 13438\, United States
ATTACH;FMTTYPE=image/jpeg:https://tempusrenatus.org/wp-content/uploads/2024/02/Arne-Koets.jpg
END:VEVENT
BEGIN:VEVENT
DTSTART;TZID=America/New_York:20231217T133000
DTEND;TZID=America/New_York:20231217T150000
DTSTAMP:20260422T044721
CREATED:20231206T064831Z
LAST-MODIFIED:20231215T200718Z
UID:10000028-1702819800-1702825200@tempusrenatus.org
SUMMARY:Winter Fundraiser
DESCRIPTION:Due to weather\, our in-person performance for this Sunday is cancelled\, but the goodies for the silent auction will instead go online! We will also be recording a performance and posting that\, so stay tuned for that and for our Spring performance that is in the works!
URL:https://tempusrenatus.org/event/winter-fundraiser-performance/
LOCATION:Online
ATTACH;FMTTYPE=image/jpeg:https://tempusrenatus.org/wp-content/uploads/2023/12/IMG_6651-scaled.jpeg
END:VEVENT
BEGIN:VEVENT
DTSTART;TZID=UTC:20230812T123000
DTEND;TZID=UTC:20230812T140000
DTSTAMP:20260422T044721
CREATED:20230724T005543Z
LAST-MODIFIED:20230724T005543Z
UID:10000027-1691843400-1691848800@tempusrenatus.org
SUMMARY:Tools for Training: Geometry Part 1
DESCRIPTION:Join us for our next Tools for Training workshop\, this time focusing on geometry! This first part focuses on circles and serpentines and what makes for accurate figures and how they fit into the arena. This is a past favorite and is great for riders who want to improve their geometry as well as learn tools for working circles and other figures in less conventional spaces. The September T4T workshop will cover Part 2. Participants are welcome to bring snacks or drinks to share if desired (some will be provided). Admission is $15. Contact us if you have any questions!
URL:https://tempusrenatus.org/event/tools-for-training-geometry-part-1/
LOCATION:Tempus Renatus\, 10180 Llewellyn rd\, Remsen\, NY\, 13438\, United States
ATTACH;FMTTYPE=image/jpeg:https://tempusrenatus.org/wp-content/uploads/2023/07/IMG_7763-scaled.jpg
END:VEVENT
BEGIN:VEVENT
DTSTART;TZID=UTC:20230729T123000
DTEND;TZID=UTC:20230729T140000
DTSTAMP:20260422T044721
CREATED:20230620T181937Z
LAST-MODIFIED:20230620T181937Z
UID:10000026-1690633800-1690639200@tempusrenatus.org
SUMMARY:Introduction to Horsemanship: History of Riding
DESCRIPTION:Join us for our first ever Introduction to Horsemanship topic: the History of Riding! This is a general survey of riding through the eras and around the world\, discussing how horses influenced history and how history influenced riding. This seminar is geared toward horse enthusiasts who have just entered the hose world or are curious about it. Water and snacks are provided\, but participants are welcome to bring additional snacks to share! General admission is $10\, children age 5-12 $5. For those who cannot join us in person\, we have a new Patreon page\, where supporters can access recordings or join us for a live-streamed version of our seminars!
URL:https://tempusrenatus.org/event/introduction-to-horsemanship-history-of-riding/
LOCATION:Tempus Renatus\, 10180 Llewellyn rd\, Remsen\, NY\, 13438\, United States
END:VEVENT
BEGIN:VEVENT
DTSTART;TZID=UTC:20230715T123000
DTEND;TZID=UTC:20230715T140000
DTSTAMP:20260422T044721
CREATED:20230619T004741Z
LAST-MODIFIED:20230619T004741Z
UID:10000016-1689424200-1689429600@tempusrenatus.org
SUMMARY:Tools for Training: Mounted Martial Arts
DESCRIPTION:Join us for our July Tools for Training seminar\, this time focusing on mounted martial arts! This seminar focuses primarily on basic mounted fencing techniques and how using elements of mounted fencing can help you with your regular training (as well as make it fun!). This seminar also will touch on the foundations of work with the garrocha\, as it is a branch of training with a spear or lance. This seminar is more focused on the riding part of mounted fencing\, so equestrians with no prior experience with HEMA (historical European martial arts) and those who do have HEMA experience will both benefit. Participants are welcome to bring snacks or drinks to share if desired (some will be provided). Admission is $15. Contact us if you have any questions!
URL:https://tempusrenatus.org/event/tools-for-training-mounted-martial-arts/
LOCATION:Tempus Renatus\, 10180 Llewellyn rd\, Remsen\, NY\, 13438\, United States
END:VEVENT
END:VCALENDAR