BEGIN:VCALENDAR
VERSION:2.0
PRODID:-//Tempus Renatus School of Classical Horsemanship - ECPv6.15.20//NONSGML v1.0//EN
CALSCALE:GREGORIAN
METHOD:PUBLISH
X-WR-CALNAME:Tempus Renatus School of Classical Horsemanship
X-ORIGINAL-URL:https://tempusrenatus.org
X-WR-CALDESC:Events for Tempus Renatus School of Classical Horsemanship
REFRESH-INTERVAL;VALUE=DURATION:PT1H
X-Robots-Tag:noindex
X-PUBLISHED-TTL:PT1H
BEGIN:VTIMEZONE
TZID:America/New_York
BEGIN:DAYLIGHT
TZOFFSETFROM:-0500
TZOFFSETTO:-0400
TZNAME:EDT
DTSTART:20250309T070000
END:DAYLIGHT
BEGIN:STANDARD
TZOFFSETFROM:-0400
TZOFFSETTO:-0500
TZNAME:EST
DTSTART:20251102T060000
END:STANDARD
BEGIN:DAYLIGHT
TZOFFSETFROM:-0500
TZOFFSETTO:-0400
TZNAME:EDT
DTSTART:20260308T070000
END:DAYLIGHT
BEGIN:STANDARD
TZOFFSETFROM:-0400
TZOFFSETTO:-0500
TZNAME:EST
DTSTART:20261101T060000
END:STANDARD
BEGIN:DAYLIGHT
TZOFFSETFROM:-0500
TZOFFSETTO:-0400
TZNAME:EDT
DTSTART:20270314T070000
END:DAYLIGHT
BEGIN:STANDARD
TZOFFSETFROM:-0400
TZOFFSETTO:-0500
TZNAME:EST
DTSTART:20271107T060000
END:STANDARD
END:VTIMEZONE
BEGIN:VTIMEZONE
TZID:UTC
BEGIN:STANDARD
TZOFFSETFROM:+0000
TZOFFSETTO:+0000
TZNAME:UTC
DTSTART:20250101T000000
END:STANDARD
END:VTIMEZONE
BEGIN:VEVENT
DTSTART;TZID=America/New_York:20260423T180000
DTEND;TZID=America/New_York:20260423T200000
DTSTAMP:20260420T080819
CREATED:20251223T144737Z
LAST-MODIFIED:20251223T145715Z
UID:10000082-1776967200-1776974400@tempusrenatus.org
SUMMARY:Beginner Longsword Classes
DESCRIPTION:Join us for beginner longsword classes! We have two cycles for beginners to join in: one starting in March and another starting in June. Available to ages 16 and up. No gear required; just comfortable clothes and athletic shoes (and any drinks or snacks you might need\, as fencing is relatively strenuous activity). First month is free\, after that\, there is a $30 monthly membership fee. \nPlease RSVP by Eventbrite or Facebook\, as we have limited gear available.
URL:https://tempusrenatus.org/event/beginner-longsword-classes/2026-04-23/
LOCATION:Tempus Renatus\, 10180 Llewellyn rd\, Remsen\, NY\, 13438\, United States
CATEGORIES:HEMA
END:VEVENT
BEGIN:VEVENT
DTSTART;TZID=America/New_York:20260430T180000
DTEND;TZID=America/New_York:20260430T200000
DTSTAMP:20260420T080820
CREATED:20251223T144737Z
LAST-MODIFIED:20251223T145715Z
UID:10000083-1777572000-1777579200@tempusrenatus.org
SUMMARY:Beginner Longsword Classes
DESCRIPTION:Join us for beginner longsword classes! We have two cycles for beginners to join in: one starting in March and another starting in June. Available to ages 16 and up. No gear required; just comfortable clothes and athletic shoes (and any drinks or snacks you might need\, as fencing is relatively strenuous activity). First month is free\, after that\, there is a $30 monthly membership fee. \nPlease RSVP by Eventbrite or Facebook\, as we have limited gear available.
URL:https://tempusrenatus.org/event/beginner-longsword-classes/2026-04-30/
LOCATION:Tempus Renatus\, 10180 Llewellyn rd\, Remsen\, NY\, 13438\, United States
CATEGORIES:HEMA
END:VEVENT
BEGIN:VEVENT
DTSTART;TZID=America/New_York:20260507T180000
DTEND;TZID=America/New_York:20260507T200000
DTSTAMP:20260420T080820
CREATED:20251223T144737Z
LAST-MODIFIED:20251223T145715Z
UID:10000084-1778176800-1778184000@tempusrenatus.org
SUMMARY:Beginner Longsword Classes
DESCRIPTION:Join us for beginner longsword classes! We have two cycles for beginners to join in: one starting in March and another starting in June. Available to ages 16 and up. No gear required; just comfortable clothes and athletic shoes (and any drinks or snacks you might need\, as fencing is relatively strenuous activity). First month is free\, after that\, there is a $30 monthly membership fee. \nPlease RSVP by Eventbrite or Facebook\, as we have limited gear available.
URL:https://tempusrenatus.org/event/beginner-longsword-classes/2026-05-07/
LOCATION:Tempus Renatus\, 10180 Llewellyn rd\, Remsen\, NY\, 13438\, United States
CATEGORIES:HEMA
END:VEVENT
BEGIN:VEVENT
DTSTART;TZID=America/New_York:20260514T180000
DTEND;TZID=America/New_York:20260514T200000
DTSTAMP:20260420T080820
CREATED:20251223T144737Z
LAST-MODIFIED:20251223T145715Z
UID:10000085-1778781600-1778788800@tempusrenatus.org
SUMMARY:Beginner Longsword Classes
DESCRIPTION:Join us for beginner longsword classes! We have two cycles for beginners to join in: one starting in March and another starting in June. Available to ages 16 and up. No gear required; just comfortable clothes and athletic shoes (and any drinks or snacks you might need\, as fencing is relatively strenuous activity). First month is free\, after that\, there is a $30 monthly membership fee. \nPlease RSVP by Eventbrite or Facebook\, as we have limited gear available.
URL:https://tempusrenatus.org/event/beginner-longsword-classes/2026-05-14/
LOCATION:Tempus Renatus\, 10180 Llewellyn rd\, Remsen\, NY\, 13438\, United States
CATEGORIES:HEMA
END:VEVENT
BEGIN:VEVENT
DTSTART;TZID=America/New_York:20260521T180000
DTEND;TZID=America/New_York:20260521T200000
DTSTAMP:20260420T080820
CREATED:20251223T144737Z
LAST-MODIFIED:20251223T145715Z
UID:10000086-1779386400-1779393600@tempusrenatus.org
SUMMARY:Beginner Longsword Classes
DESCRIPTION:Join us for beginner longsword classes! We have two cycles for beginners to join in: one starting in March and another starting in June. Available to ages 16 and up. No gear required; just comfortable clothes and athletic shoes (and any drinks or snacks you might need\, as fencing is relatively strenuous activity). First month is free\, after that\, there is a $30 monthly membership fee. \nPlease RSVP by Eventbrite or Facebook\, as we have limited gear available.
URL:https://tempusrenatus.org/event/beginner-longsword-classes/2026-05-21/
LOCATION:Tempus Renatus\, 10180 Llewellyn rd\, Remsen\, NY\, 13438\, United States
CATEGORIES:HEMA
END:VEVENT
BEGIN:VEVENT
DTSTART;TZID=America/New_York:20260528T180000
DTEND;TZID=America/New_York:20260528T200000
DTSTAMP:20260420T080820
CREATED:20251223T144737Z
LAST-MODIFIED:20251223T145715Z
UID:10000087-1779991200-1779998400@tempusrenatus.org
SUMMARY:Beginner Longsword Classes
DESCRIPTION:Join us for beginner longsword classes! We have two cycles for beginners to join in: one starting in March and another starting in June. Available to ages 16 and up. No gear required; just comfortable clothes and athletic shoes (and any drinks or snacks you might need\, as fencing is relatively strenuous activity). First month is free\, after that\, there is a $30 monthly membership fee. \nPlease RSVP by Eventbrite or Facebook\, as we have limited gear available.
URL:https://tempusrenatus.org/event/beginner-longsword-classes/2026-05-28/
LOCATION:Tempus Renatus\, 10180 Llewellyn rd\, Remsen\, NY\, 13438\, United States
CATEGORIES:HEMA
END:VEVENT
BEGIN:VEVENT
DTSTART;TZID=America/New_York:20260604T180000
DTEND;TZID=America/New_York:20260604T200000
DTSTAMP:20260420T080820
CREATED:20251223T144737Z
LAST-MODIFIED:20251223T145715Z
UID:10000088-1780596000-1780603200@tempusrenatus.org
SUMMARY:Beginner Longsword Classes
DESCRIPTION:Join us for beginner longsword classes! We have two cycles for beginners to join in: one starting in March and another starting in June. Available to ages 16 and up. No gear required; just comfortable clothes and athletic shoes (and any drinks or snacks you might need\, as fencing is relatively strenuous activity). First month is free\, after that\, there is a $30 monthly membership fee. \nPlease RSVP by Eventbrite or Facebook\, as we have limited gear available.
URL:https://tempusrenatus.org/event/beginner-longsword-classes/2026-06-04/
LOCATION:Tempus Renatus\, 10180 Llewellyn rd\, Remsen\, NY\, 13438\, United States
CATEGORIES:HEMA
END:VEVENT
BEGIN:VEVENT
DTSTART;TZID=America/New_York:20260611T180000
DTEND;TZID=America/New_York:20260611T200000
DTSTAMP:20260420T080820
CREATED:20251223T144737Z
LAST-MODIFIED:20251223T145715Z
UID:10000089-1781200800-1781208000@tempusrenatus.org
SUMMARY:Beginner Longsword Classes
DESCRIPTION:Join us for beginner longsword classes! We have two cycles for beginners to join in: one starting in March and another starting in June. Available to ages 16 and up. No gear required; just comfortable clothes and athletic shoes (and any drinks or snacks you might need\, as fencing is relatively strenuous activity). First month is free\, after that\, there is a $30 monthly membership fee. \nPlease RSVP by Eventbrite or Facebook\, as we have limited gear available.
URL:https://tempusrenatus.org/event/beginner-longsword-classes/2026-06-11/
LOCATION:Tempus Renatus\, 10180 Llewellyn rd\, Remsen\, NY\, 13438\, United States
CATEGORIES:HEMA
END:VEVENT
BEGIN:VEVENT
DTSTART;TZID=UTC:20260613T090000
DTEND;TZID=UTC:20260613T140000
DTSTAMP:20260420T080820
CREATED:20251223T153344Z
LAST-MODIFIED:20251223T153344Z
UID:10000102-1781341200-1781359200@tempusrenatus.org
SUMMARY:Introduction to Rossfechten 2026
DESCRIPTION:Join us for an introduction to Rossfechten (mounted fencing)! This workshop will go over some of the basics of Rossfechten with a mounted demonstration\, followed by an optional group lesson in the afternoon. Prior riding experience required for the group lesson\, and please bring horses that play well with others\, as you’ll be going into closer quarters with each other. Maximum of 4 in the group lesson; if more are interested\, we’ll do two group lessons\, so if all slots are sold\, send us a message\, and we’ll open up a second group lesson slot! Price is $30 for the morning workshop and demo\, $80 for the workshop and group lesson. Two lesson horses available; pricing is the same for use of lesson horse as well as for bringing your own. Lodging potentially available. Please contact if you have any questions!
URL:https://tempusrenatus.org/event/introduction-to-rossfechten-2026/
LOCATION:Tempus Renatus\, 10180 Llewellyn rd\, Remsen\, NY\, 13438\, United States
CATEGORIES:Equestrian Events,HEMA
ATTACH;FMTTYPE=image/jpeg:https://tempusrenatus.org/wp-content/uploads/2025/04/IMG_9679-scaled.jpg
END:VEVENT
BEGIN:VEVENT
DTSTART;TZID=America/New_York:20260618T180000
DTEND;TZID=America/New_York:20260618T200000
DTSTAMP:20260420T080820
CREATED:20251223T144737Z
LAST-MODIFIED:20251223T145715Z
UID:10000090-1781805600-1781812800@tempusrenatus.org
SUMMARY:Beginner Longsword Classes
DESCRIPTION:Join us for beginner longsword classes! We have two cycles for beginners to join in: one starting in March and another starting in June. Available to ages 16 and up. No gear required; just comfortable clothes and athletic shoes (and any drinks or snacks you might need\, as fencing is relatively strenuous activity). First month is free\, after that\, there is a $30 monthly membership fee. \nPlease RSVP by Eventbrite or Facebook\, as we have limited gear available.
URL:https://tempusrenatus.org/event/beginner-longsword-classes/2026-06-18/
LOCATION:Tempus Renatus\, 10180 Llewellyn rd\, Remsen\, NY\, 13438\, United States
CATEGORIES:HEMA
END:VEVENT
BEGIN:VEVENT
DTSTART;TZID=America/New_York:20260625T180000
DTEND;TZID=America/New_York:20260625T200000
DTSTAMP:20260420T080820
CREATED:20251223T144737Z
LAST-MODIFIED:20251223T145715Z
UID:10000091-1782410400-1782417600@tempusrenatus.org
SUMMARY:Beginner Longsword Classes
DESCRIPTION:Join us for beginner longsword classes! We have two cycles for beginners to join in: one starting in March and another starting in June. Available to ages 16 and up. No gear required; just comfortable clothes and athletic shoes (and any drinks or snacks you might need\, as fencing is relatively strenuous activity). First month is free\, after that\, there is a $30 monthly membership fee. \nPlease RSVP by Eventbrite or Facebook\, as we have limited gear available.
URL:https://tempusrenatus.org/event/beginner-longsword-classes/2026-06-25/
LOCATION:Tempus Renatus\, 10180 Llewellyn rd\, Remsen\, NY\, 13438\, United States
CATEGORIES:HEMA
END:VEVENT
BEGIN:VEVENT
DTSTART;TZID=America/New_York:20260702T180000
DTEND;TZID=America/New_York:20260702T200000
DTSTAMP:20260420T080820
CREATED:20251223T144737Z
LAST-MODIFIED:20251223T145715Z
UID:10000092-1783015200-1783022400@tempusrenatus.org
SUMMARY:Beginner Longsword Classes
DESCRIPTION:Join us for beginner longsword classes! We have two cycles for beginners to join in: one starting in March and another starting in June. Available to ages 16 and up. No gear required; just comfortable clothes and athletic shoes (and any drinks or snacks you might need\, as fencing is relatively strenuous activity). First month is free\, after that\, there is a $30 monthly membership fee. \nPlease RSVP by Eventbrite or Facebook\, as we have limited gear available.
URL:https://tempusrenatus.org/event/beginner-longsword-classes/2026-07-02/
LOCATION:Tempus Renatus\, 10180 Llewellyn rd\, Remsen\, NY\, 13438\, United States
CATEGORIES:HEMA
END:VEVENT
BEGIN:VEVENT
DTSTART;TZID=America/New_York:20260709T180000
DTEND;TZID=America/New_York:20260709T200000
DTSTAMP:20260420T080820
CREATED:20251223T144737Z
LAST-MODIFIED:20251223T145715Z
UID:10000093-1783620000-1783627200@tempusrenatus.org
SUMMARY:Beginner Longsword Classes
DESCRIPTION:Join us for beginner longsword classes! We have two cycles for beginners to join in: one starting in March and another starting in June. Available to ages 16 and up. No gear required; just comfortable clothes and athletic shoes (and any drinks or snacks you might need\, as fencing is relatively strenuous activity). First month is free\, after that\, there is a $30 monthly membership fee. \nPlease RSVP by Eventbrite or Facebook\, as we have limited gear available.
URL:https://tempusrenatus.org/event/beginner-longsword-classes/2026-07-09/
LOCATION:Tempus Renatus\, 10180 Llewellyn rd\, Remsen\, NY\, 13438\, United States
CATEGORIES:HEMA
END:VEVENT
BEGIN:VEVENT
DTSTART;TZID=America/New_York:20260716T180000
DTEND;TZID=America/New_York:20260716T200000
DTSTAMP:20260420T080820
CREATED:20251223T144737Z
LAST-MODIFIED:20251223T145715Z
UID:10000094-1784224800-1784232000@tempusrenatus.org
SUMMARY:Beginner Longsword Classes
DESCRIPTION:Join us for beginner longsword classes! We have two cycles for beginners to join in: one starting in March and another starting in June. Available to ages 16 and up. No gear required; just comfortable clothes and athletic shoes (and any drinks or snacks you might need\, as fencing is relatively strenuous activity). First month is free\, after that\, there is a $30 monthly membership fee. \nPlease RSVP by Eventbrite or Facebook\, as we have limited gear available.
URL:https://tempusrenatus.org/event/beginner-longsword-classes/2026-07-16/
LOCATION:Tempus Renatus\, 10180 Llewellyn rd\, Remsen\, NY\, 13438\, United States
CATEGORIES:HEMA
END:VEVENT
BEGIN:VEVENT
DTSTART;TZID=America/New_York:20260723T180000
DTEND;TZID=America/New_York:20260723T200000
DTSTAMP:20260420T080820
CREATED:20251223T144737Z
LAST-MODIFIED:20251223T145715Z
UID:10000095-1784829600-1784836800@tempusrenatus.org
SUMMARY:Beginner Longsword Classes
DESCRIPTION:Join us for beginner longsword classes! We have two cycles for beginners to join in: one starting in March and another starting in June. Available to ages 16 and up. No gear required; just comfortable clothes and athletic shoes (and any drinks or snacks you might need\, as fencing is relatively strenuous activity). First month is free\, after that\, there is a $30 monthly membership fee. \nPlease RSVP by Eventbrite or Facebook\, as we have limited gear available.
URL:https://tempusrenatus.org/event/beginner-longsword-classes/2026-07-23/
LOCATION:Tempus Renatus\, 10180 Llewellyn rd\, Remsen\, NY\, 13438\, United States
CATEGORIES:HEMA
END:VEVENT
BEGIN:VEVENT
DTSTART;TZID=America/New_York:20260730T180000
DTEND;TZID=America/New_York:20260730T200000
DTSTAMP:20260420T080820
CREATED:20251223T144737Z
LAST-MODIFIED:20251223T145715Z
UID:10000096-1785434400-1785441600@tempusrenatus.org
SUMMARY:Beginner Longsword Classes
DESCRIPTION:Join us for beginner longsword classes! We have two cycles for beginners to join in: one starting in March and another starting in June. Available to ages 16 and up. No gear required; just comfortable clothes and athletic shoes (and any drinks or snacks you might need\, as fencing is relatively strenuous activity). First month is free\, after that\, there is a $30 monthly membership fee. \nPlease RSVP by Eventbrite or Facebook\, as we have limited gear available.
URL:https://tempusrenatus.org/event/beginner-longsword-classes/2026-07-30/
LOCATION:Tempus Renatus\, 10180 Llewellyn rd\, Remsen\, NY\, 13438\, United States
CATEGORIES:HEMA
END:VEVENT
BEGIN:VEVENT
DTSTART;TZID=America/New_York:20260806T180000
DTEND;TZID=America/New_York:20260806T200000
DTSTAMP:20260420T080820
CREATED:20251223T144737Z
LAST-MODIFIED:20251223T145715Z
UID:10000097-1786039200-1786046400@tempusrenatus.org
SUMMARY:Beginner Longsword Classes
DESCRIPTION:Join us for beginner longsword classes! We have two cycles for beginners to join in: one starting in March and another starting in June. Available to ages 16 and up. No gear required; just comfortable clothes and athletic shoes (and any drinks or snacks you might need\, as fencing is relatively strenuous activity). First month is free\, after that\, there is a $30 monthly membership fee. \nPlease RSVP by Eventbrite or Facebook\, as we have limited gear available.
URL:https://tempusrenatus.org/event/beginner-longsword-classes/2026-08-06/
LOCATION:Tempus Renatus\, 10180 Llewellyn rd\, Remsen\, NY\, 13438\, United States
CATEGORIES:HEMA
END:VEVENT
BEGIN:VEVENT
DTSTART;TZID=America/New_York:20260813T180000
DTEND;TZID=America/New_York:20260813T200000
DTSTAMP:20260420T080820
CREATED:20251223T144737Z
LAST-MODIFIED:20251223T145715Z
UID:10000098-1786644000-1786651200@tempusrenatus.org
SUMMARY:Beginner Longsword Classes
DESCRIPTION:Join us for beginner longsword classes! We have two cycles for beginners to join in: one starting in March and another starting in June. Available to ages 16 and up. No gear required; just comfortable clothes and athletic shoes (and any drinks or snacks you might need\, as fencing is relatively strenuous activity). First month is free\, after that\, there is a $30 monthly membership fee. \nPlease RSVP by Eventbrite or Facebook\, as we have limited gear available.
URL:https://tempusrenatus.org/event/beginner-longsword-classes/2026-08-13/
LOCATION:Tempus Renatus\, 10180 Llewellyn rd\, Remsen\, NY\, 13438\, United States
CATEGORIES:HEMA
END:VEVENT
BEGIN:VEVENT
DTSTART;TZID=America/New_York:20260820T180000
DTEND;TZID=America/New_York:20260820T200000
DTSTAMP:20260420T080820
CREATED:20251223T144737Z
LAST-MODIFIED:20251223T145715Z
UID:10000099-1787248800-1787256000@tempusrenatus.org
SUMMARY:Beginner Longsword Classes
DESCRIPTION:Join us for beginner longsword classes! We have two cycles for beginners to join in: one starting in March and another starting in June. Available to ages 16 and up. No gear required; just comfortable clothes and athletic shoes (and any drinks or snacks you might need\, as fencing is relatively strenuous activity). First month is free\, after that\, there is a $30 monthly membership fee. \nPlease RSVP by Eventbrite or Facebook\, as we have limited gear available.
URL:https://tempusrenatus.org/event/beginner-longsword-classes/2026-08-20/
LOCATION:Tempus Renatus\, 10180 Llewellyn rd\, Remsen\, NY\, 13438\, United States
CATEGORIES:HEMA
END:VEVENT
BEGIN:VEVENT
DTSTART;TZID=America/New_York:20260827T180000
DTEND;TZID=America/New_York:20260827T200000
DTSTAMP:20260420T080820
CREATED:20251223T144737Z
LAST-MODIFIED:20251223T145715Z
UID:10000100-1787853600-1787860800@tempusrenatus.org
SUMMARY:Beginner Longsword Classes
DESCRIPTION:Join us for beginner longsword classes! We have two cycles for beginners to join in: one starting in March and another starting in June. Available to ages 16 and up. No gear required; just comfortable clothes and athletic shoes (and any drinks or snacks you might need\, as fencing is relatively strenuous activity). First month is free\, after that\, there is a $30 monthly membership fee. \nPlease RSVP by Eventbrite or Facebook\, as we have limited gear available.
URL:https://tempusrenatus.org/event/beginner-longsword-classes/2026-08-27/
LOCATION:Tempus Renatus\, 10180 Llewellyn rd\, Remsen\, NY\, 13438\, United States
CATEGORIES:HEMA
END:VEVENT
END:VCALENDAR