BEGIN:VCALENDAR
VERSION:2.0
PRODID:-//Tempus Renatus School of Classical Horsemanship - ECPv6.15.20//NONSGML v1.0//EN
CALSCALE:GREGORIAN
METHOD:PUBLISH
X-WR-CALNAME:Tempus Renatus School of Classical Horsemanship
X-ORIGINAL-URL:https://tempusrenatus.org
X-WR-CALDESC:Events for Tempus Renatus School of Classical Horsemanship
REFRESH-INTERVAL;VALUE=DURATION:PT1H
X-Robots-Tag:noindex
X-PUBLISHED-TTL:PT1H
BEGIN:VTIMEZONE
TZID:America/New_York
BEGIN:DAYLIGHT
TZOFFSETFROM:-0500
TZOFFSETTO:-0400
TZNAME:EDT
DTSTART:20250309T070000
END:DAYLIGHT
BEGIN:STANDARD
TZOFFSETFROM:-0400
TZOFFSETTO:-0500
TZNAME:EST
DTSTART:20251102T060000
END:STANDARD
BEGIN:DAYLIGHT
TZOFFSETFROM:-0500
TZOFFSETTO:-0400
TZNAME:EDT
DTSTART:20260308T070000
END:DAYLIGHT
BEGIN:STANDARD
TZOFFSETFROM:-0400
TZOFFSETTO:-0500
TZNAME:EST
DTSTART:20261101T060000
END:STANDARD
BEGIN:DAYLIGHT
TZOFFSETFROM:-0500
TZOFFSETTO:-0400
TZNAME:EDT
DTSTART:20270314T070000
END:DAYLIGHT
BEGIN:STANDARD
TZOFFSETFROM:-0400
TZOFFSETTO:-0500
TZNAME:EST
DTSTART:20271107T060000
END:STANDARD
END:VTIMEZONE
BEGIN:VEVENT
DTSTART;TZID=America/New_York:20260312T180000
DTEND;TZID=America/New_York:20260312T200000
DTSTAMP:20260422T081808
CREATED:20251223T144737Z
LAST-MODIFIED:20251223T145715Z
UID:10000076-1773338400-1773345600@tempusrenatus.org
SUMMARY:Beginner Longsword Classes
DESCRIPTION:Join us for beginner longsword classes! We have two cycles for beginners to join in: one starting in March and another starting in June. Available to ages 16 and up. No gear required; just comfortable clothes and athletic shoes (and any drinks or snacks you might need\, as fencing is relatively strenuous activity). First month is free\, after that\, there is a $30 monthly membership fee. \nPlease RSVP by Eventbrite or Facebook\, as we have limited gear available.
URL:https://tempusrenatus.org/event/beginner-longsword-classes/2026-03-12/
LOCATION:Tempus Renatus\, 10180 Llewellyn rd\, Remsen\, NY\, 13438\, United States
CATEGORIES:HEMA
END:VEVENT
BEGIN:VEVENT
DTSTART;TZID=America/New_York:20260319T180000
DTEND;TZID=America/New_York:20260319T200000
DTSTAMP:20260422T081808
CREATED:20251223T144737Z
LAST-MODIFIED:20251223T145715Z
UID:10000077-1773943200-1773950400@tempusrenatus.org
SUMMARY:Beginner Longsword Classes
DESCRIPTION:Join us for beginner longsword classes! We have two cycles for beginners to join in: one starting in March and another starting in June. Available to ages 16 and up. No gear required; just comfortable clothes and athletic shoes (and any drinks or snacks you might need\, as fencing is relatively strenuous activity). First month is free\, after that\, there is a $30 monthly membership fee. \nPlease RSVP by Eventbrite or Facebook\, as we have limited gear available.
URL:https://tempusrenatus.org/event/beginner-longsword-classes/2026-03-19/
LOCATION:Tempus Renatus\, 10180 Llewellyn rd\, Remsen\, NY\, 13438\, United States
CATEGORIES:HEMA
END:VEVENT
BEGIN:VEVENT
DTSTART;TZID=America/New_York:20260319T180000
DTEND;TZID=America/New_York:20260319T200000
DTSTAMP:20260422T081808
CREATED:20260305T020930Z
LAST-MODIFIED:20260305T020930Z
UID:10000075-1773943200-1773950400@tempusrenatus.org
SUMMARY:Beginner Longsword Classes
DESCRIPTION:Join us for beginner longsword classes! We have two cycles for beginners to join in: one starting in March and another starting in June. Available to ages 16 and up. No gear required; just comfortable clothes and athletic shoes (and any drinks or snacks you might need\, as fencing is relatively strenuous activity). First month is free\, after that\, there is a $30 monthly membership fee. \nPlease RSVP by Eventbrite or Facebook\, as we have limited gear available.
URL:https://tempusrenatus.org/event/beginner-longsword-classes-2/
LOCATION:Tempus Renatus\, 10180 Llewellyn rd\, Remsen\, NY\, 13438\, United States
CATEGORIES:HEMA
END:VEVENT
BEGIN:VEVENT
DTSTART;TZID=America/New_York:20260326T180000
DTEND;TZID=America/New_York:20260326T200000
DTSTAMP:20260422T081808
CREATED:20251223T144737Z
LAST-MODIFIED:20251223T145715Z
UID:10000078-1774548000-1774555200@tempusrenatus.org
SUMMARY:Beginner Longsword Classes
DESCRIPTION:Join us for beginner longsword classes! We have two cycles for beginners to join in: one starting in March and another starting in June. Available to ages 16 and up. No gear required; just comfortable clothes and athletic shoes (and any drinks or snacks you might need\, as fencing is relatively strenuous activity). First month is free\, after that\, there is a $30 monthly membership fee. \nPlease RSVP by Eventbrite or Facebook\, as we have limited gear available.
URL:https://tempusrenatus.org/event/beginner-longsword-classes/2026-03-26/
LOCATION:Tempus Renatus\, 10180 Llewellyn rd\, Remsen\, NY\, 13438\, United States
CATEGORIES:HEMA
END:VEVENT
END:VCALENDAR