BEGIN:VCALENDAR
VERSION:2.0
PRODID:-//Tempus Renatus School of Classical Horsemanship - ECPv6.15.20//NONSGML v1.0//EN
CALSCALE:GREGORIAN
METHOD:PUBLISH
X-WR-CALNAME:Tempus Renatus School of Classical Horsemanship
X-ORIGINAL-URL:https://tempusrenatus.org
X-WR-CALDESC:Events for Tempus Renatus School of Classical Horsemanship
REFRESH-INTERVAL;VALUE=DURATION:PT1H
X-Robots-Tag:noindex
X-PUBLISHED-TTL:PT1H
BEGIN:VTIMEZONE
TZID:UTC
BEGIN:STANDARD
TZOFFSETFROM:+0000
TZOFFSETTO:+0000
TZNAME:UTC
DTSTART:20230101T000000
END:STANDARD
END:VTIMEZONE
BEGIN:VEVENT
DTSTART;TZID=UTC:20250926T190000
DTEND;TZID=UTC:20250928T170000
DTSTAMP:20260420T140812
CREATED:20250822T164940Z
LAST-MODIFIED:20250822T164940Z
UID:10000068-1758913200-1759078800@tempusrenatus.org
SUMMARY:Biomechanics Symposium at Bridlewood Dressage
DESCRIPTION:Ever been curious about biomechanics for your riding? Join us for a weekend of learning and practice! Covering both equine and human principles\, this weekend will provide a deep dive into the science of riding while also providing tools for you to integrate this knowledge into your everyday practice. Hosted by Bridlewood Dressage but given by our instructor\, access a weekend of learning in a picturesque setting in Hillsdale\, NY. Meals provided are sourced locally from organic ingredients. \nFriday evening will start the symposium off with dinner and an introductory lecture introducing principles that apply to both horses and humans. Saturday will start with a rider biomechanics lecture and a group Pilates/calisthenics session\, followed by a lunch and then a longe lesson on your or one of our horses (up to 3 available). Dinner will offer a chance for discussion and further Q&A to recap the day. Sunday will start with horse biomechanics lecture and demonstration followed by lunch and then private lessons. \nUp to 5 participant slots available for lessons and fitness sessions\, but auditing is unlimited. Registration closes on September 24th. Lodging provided for participants. Contact us if you have any dietary needs!
URL:https://tempusrenatus.org/event/biomechanics-symposium-at-bridlewood-dressage/
LOCATION:NY
CATEGORIES:Equestrian Events
ATTACH;FMTTYPE=image/gif:https://tempusrenatus.org/wp-content/uploads/2021/06/biomechanics.gif
END:VEVENT
BEGIN:VEVENT
DTSTART;TZID=UTC:20250614T090000
DTEND;TZID=UTC:20250614T140000
DTSTAMP:20260420T140812
CREATED:20250414T192220Z
LAST-MODIFIED:20250605T192110Z
UID:10000067-1749891600-1749909600@tempusrenatus.org
SUMMARY:Introduction to Rossfechten
DESCRIPTION:Join us for an introduction to Rossfechten (mounted fencing)! This workshop will go over some of the basics of Rossfechten with a mounted demonstration\, followed by an optional group lesson in the afternoon. Prior riding experience required for the group lesson\, and please bring horses that play well with others\, as you’ll be going into closer quarters with each other. Maximum of 4 in the group lesson; if more are interested\, we’ll do two group lessons\, so if all slots are sold\, send us a message\, and we’ll open up a second group lesson slot! Price is $30 for the morning workshop and demo\, $80 for the workshop and group lesson. Lodging potentially available. Please contact if you have any questions! \n  \nUPDATE: Our two lesson horses are booked\, but riding spots are still available if you wish to bring your own horse!
URL:https://tempusrenatus.org/event/introduction-to-rossfechten/
LOCATION:Tempus Renatus\, 10180 Llewellyn rd\, Remsen\, NY\, 13438\, United States
CATEGORIES:Equestrian Events
ATTACH;FMTTYPE=image/jpeg:https://tempusrenatus.org/wp-content/uploads/2025/04/IMG_9679-scaled.jpg
END:VEVENT
BEGIN:VEVENT
DTSTART;TZID=UTC:20250522T180000
DTEND;TZID=UTC:20250522T190000
DTSTAMP:20260420T140812
CREATED:20250414T182728Z
LAST-MODIFIED:20250513T191732Z
UID:10000066-1747936800-1747940400@tempusrenatus.org
SUMMARY:Tools for Training: Dressage Out of the Sandbox
DESCRIPTION:Join us for the next Tools for Training talk: Dressage out of the Sandbox. Learn how dressage principles apply to trail riding to maximize your horse’s fitness\, keep their muscles balanced\, and creatively work around obstacles or through spooky moments. Also learn tools for schooling dressage at home if you don’t have a sandbox to begin with! Admission $15\, please register here so we can make sure we have enough chairs for everyone!
URL:https://tempusrenatus.org/event/tools-for-training-dressage-out-of-the-sandbox/
LOCATION:Tempus Renatus\, 10180 Llewellyn rd\, Remsen\, NY\, 13438\, United States
CATEGORIES:Equestrian Events
ATTACH;FMTTYPE=image/jpeg:https://tempusrenatus.org/wp-content/uploads/2020/12/Blog-Feature-Gaited.jpg
END:VEVENT
BEGIN:VEVENT
DTSTART;TZID=UTC:20250419T090000
DTEND;TZID=UTC:20250420T170000
DTSTAMP:20260420T140812
CREATED:20250320T194930Z
LAST-MODIFIED:20250411T202718Z
UID:10000065-1745053200-1745168400@tempusrenatus.org
SUMMARY:Biomechanics Workshop
DESCRIPTION:Kick off your springtime riding with a biomechanics workshop! This two-day workshop goes over the fundamentals of biomechanics for both horse and rider. Saturday will focus on the horse with examining how their body works and how to help them work more efficiently. Sunday will focus on rider biomechanics including a private 30-minute session on Maestro\, our Equicizer\, to help give you a custom look at your seat and ways you can optimize it. You can either bring your own saddle for Maestro or use one of ours! 8 slots available at $250 for both days (lunch included). Contact us for more information!
URL:https://tempusrenatus.org/event/biomechanics-workshop/
LOCATION:Tempus Renatus\, 10180 Llewellyn rd\, Remsen\, NY\, 13438\, United States
CATEGORIES:Equestrian Events
ATTACH;FMTTYPE=image/gif:https://tempusrenatus.org/wp-content/uploads/2021/06/biomechanics.gif
END:VEVENT
BEGIN:VEVENT
DTSTART;TZID=UTC:20250329T130000
DTEND;TZID=UTC:20250329T140000
DTSTAMP:20260420T140812
CREATED:20250320T194139Z
LAST-MODIFIED:20250320T194154Z
UID:10000064-1743253200-1743256800@tempusrenatus.org
SUMMARY:Tools for Training: History of Dressage
DESCRIPTION:We’re restarting our seminar series! We’re kicking off with a popular subject\, which is a survey of the history of dressage and how it came to be what it is today. Starting with ancient times\, this survey goes over significant riders and authors that have influenced the art\, when different movements appeared\, and how dressage was used in battle. Feel free to bring a potluck dish to share (completely optional but makes it fun). The lecture is approximately one hour long with a Q&A session at the end. Tickets for the seminar are $15 apiece.
URL:https://tempusrenatus.org/event/tools-for-training-history-of-dressage-3/
LOCATION:NY
CATEGORIES:Equestrian Events
ATTACH;FMTTYPE=image/jpeg:https://tempusrenatus.org/wp-content/uploads/2023/07/IMG_7763-scaled.jpg
END:VEVENT
BEGIN:VEVENT
DTSTART;TZID=UTC:20240720T110000
DTEND;TZID=UTC:20240720T120000
DTSTAMP:20260420T140812
CREATED:20240710T194500Z
LAST-MODIFIED:20240710T200049Z
UID:10000062-1721473200-1721476800@tempusrenatus.org
SUMMARY:Dancing with Lipizzans: The Work In-Hand and in Long Reins
DESCRIPTION:Join us for a demonstration of in-hand and long reins! This art form displays how horses perform the different movements but without a rider on their back\, just through the reins with the rider walking. We’ll be showing two different approaches to in-hand and where they come from as well as the culmination of the work from the ground: the art of long-reining. Generally reserved for performances at the riding schools in Europe\, we’re bringing them here to the mountains of North Carolina! Admission is $20/adult\, $15 for children ages 4-12; contact for group children rates. Tickets can be purchased at the door with cash\, Venmo\, or Zelle\, or they can be purchased here on the website! We have quite a bit of seating\, but bring a chair or picnic blanket in case we run out! Doors open at 10:30.
URL:https://tempusrenatus.org/event/dancing-with-lipizzans-the-work-in-hand-and-in-long-reins/
LOCATION:Tempus Renatus\, 10180 Llewellyn rd\, Remsen\, NY\, 13438\, United States
CATEGORIES:Equestrian Events,Family Events
ATTACH;FMTTYPE=image/png:https://tempusrenatus.org/wp-content/uploads/2024/07/59996093_1156094701239707_8387416112215621632_o.png
END:VEVENT
BEGIN:VEVENT
DTSTART;TZID=UTC:20240629T123000
DTEND;TZID=UTC:20240629T133000
DTSTAMP:20260420T140812
CREATED:20240618T023957Z
LAST-MODIFIED:20240618T023957Z
UID:10000047-1719664200-1719667800@tempusrenatus.org
SUMMARY:Tools for Training: The Work In-Hand
DESCRIPTION:Our June Tools For Training topic is the work in-hand! Learn more about the two main styles of work in-hand as well as what your horse needs to know before starting work in-hand and why it is important to include in your training! While most TfT talks use a PowerPoint\, this one is going to be a little different and have a practical demonstration for people to really see how the different styles of in-hand work. Join us if you’ve ever been curious about in-hand but didn’t know how to get started! Admission is $15\, bring a potluck snack/dish to share if so inclined
URL:https://tempusrenatus.org/event/tools-for-training-the-work-in-hand/
LOCATION:Tempus Renatus\, 10180 Llewellyn rd\, Remsen\, NY\, 13438\, United States
CATEGORIES:Equestrian Events
ATTACH;FMTTYPE=image/jpeg:https://tempusrenatus.org/wp-content/uploads/2023/07/IMG_7763-scaled.jpg
END:VEVENT
BEGIN:VEVENT
DTSTART;TZID=UTC:20240427T123000
DTEND;TZID=UTC:20240427T133000
DTSTAMP:20260420T140812
CREATED:20240409T034627Z
LAST-MODIFIED:20240409T040701Z
UID:10000031-1714221000-1714224600@tempusrenatus.org
SUMMARY:Tools for Training: The Seat
DESCRIPTION:Join us for our first Tools for Training seminar of 2024! This one focuses on the seat: what is good position\, why is it good\, and how to use it. Participants are welcome to bring snacks or drinks to share if desired (some will be provided). Admission is $15. Contact us if you have any questions!
URL:https://tempusrenatus.org/event/tools-for-training-the-seat/
LOCATION:Tempus Renatus\, 10180 Llewellyn rd\, Remsen\, NY\, 13438\, United States
CATEGORIES:Equestrian Events
ATTACH;FMTTYPE=image/jpeg:https://tempusrenatus.org/wp-content/uploads/2023/07/IMG_7763-scaled.jpg
END:VEVENT
END:VCALENDAR