BEGIN:VCALENDAR
VERSION:2.0
PRODID:-//Tempus Renatus School of Classical Horsemanship - ECPv6.15.20//NONSGML v1.0//EN
CALSCALE:GREGORIAN
METHOD:PUBLISH
X-ORIGINAL-URL:https://tempusrenatus.org
X-WR-CALDESC:Events for Tempus Renatus School of Classical Horsemanship
REFRESH-INTERVAL;VALUE=DURATION:PT1H
X-Robots-Tag:noindex
X-PUBLISHED-TTL:PT1H
BEGIN:VTIMEZONE
TZID:America/New_York
BEGIN:DAYLIGHT
TZOFFSETFROM:-0500
TZOFFSETTO:-0400
TZNAME:EDT
DTSTART:20250309T070000
END:DAYLIGHT
BEGIN:STANDARD
TZOFFSETFROM:-0400
TZOFFSETTO:-0500
TZNAME:EST
DTSTART:20251102T060000
END:STANDARD
BEGIN:DAYLIGHT
TZOFFSETFROM:-0500
TZOFFSETTO:-0400
TZNAME:EDT
DTSTART:20260308T070000
END:DAYLIGHT
BEGIN:STANDARD
TZOFFSETFROM:-0400
TZOFFSETTO:-0500
TZNAME:EST
DTSTART:20261101T060000
END:STANDARD
BEGIN:DAYLIGHT
TZOFFSETFROM:-0500
TZOFFSETTO:-0400
TZNAME:EDT
DTSTART:20270314T070000
END:DAYLIGHT
BEGIN:STANDARD
TZOFFSETFROM:-0400
TZOFFSETTO:-0500
TZNAME:EST
DTSTART:20271107T060000
END:STANDARD
END:VTIMEZONE
BEGIN:VEVENT
DTSTART;TZID=America/New_York:20260309T180000
DTEND;TZID=America/New_York:20260309T200000
DTSTAMP:20260420T140833
CREATED:20251223T160246Z
LAST-MODIFIED:20260112T180510Z
UID:10000165-1773079200-1773086400@tempusrenatus.org
SUMMARY:Classical Riding Book Club
DESCRIPTION:Displayed price is for all of 2026; individual dates can be booked through the Eventbrite link! \nJoin us as we start up a monthly bookclub! We’ll cover different classical riding books and books about the history of classical riding. Each two months\, we’ll change books so that everyone has a chance to read as much as they can and ask the questions they have. When temperatures permit\, these will be equine-assisted book clubs\, held either in the arena or in the pasture with some of our equine facilitators. These sessions will also be hybrid virtual and in-person. Please RSVP for the in-person sessions at least one day in advance and the virtual sessions one hour in advance. \nEach session is $10. Please RSVP through Evenbrite (link below)\, as our event software is still in development for individual tickets for recurring events. If you’d like to purchase tickets for the whole year\, season passes are available!
URL:https://tempusrenatus.org/event/classical-riding-book-club/2026-03-09/
LOCATION:Tempus Renatus\, 10180 Llewellyn rd\, Remsen\, NY\, 13438\, United States
CATEGORIES:Equestrian Events
ATTACH;FMTTYPE=image/jpeg:https://tempusrenatus.org/wp-content/uploads/2024/03/reading-to-horses-scaled.jpg
END:VEVENT
BEGIN:VEVENT
DTSTART;TZID=America/New_York:20260321T103000
DTEND;TZID=America/New_York:20260321T113000
DTSTAMP:20260420T140834
CREATED:20251222T194316Z
LAST-MODIFIED:20251223T161410Z
UID:10000224-1774089000-1774092600@tempusrenatus.org
SUMMARY:Tools for Training: Longeing
DESCRIPTION:Looking for tools to elevate your longeing? Check out this month’s TFT talk! Take your longeing from endless circles to patterns that move beyond circles\, incorporates simple but powerful body language principles\, and teaches your horse how to self-regulate into thoughtful calm instead of constantly being in hyperactive overdrive whenever they go on the longe. Like all our TFT talks\, this one is hosted both online and in-person. In-person tickets close the day prior\, virtual ones an hour prior.
URL:https://tempusrenatus.org/event/tools-for-training-longeing/
LOCATION:Tempus Renatus\, 10180 Llewellyn rd\, Remsen\, NY\, 13438\, United States
CATEGORIES:Equestrian Events
ATTACH;FMTTYPE=image/jpeg:https://tempusrenatus.org/wp-content/uploads/2021/06/IMG_0264-scaled.jpg
END:VEVENT
END:VCALENDAR